BEGIN:VCALENDAR
VERSION:2.0
PRODID:-//Kick It Event Management - ECPv6.15.18//NONSGML v1.0//EN
CALSCALE:GREGORIAN
METHOD:PUBLISH
X-WR-CALNAME:Kick It Event Management
X-ORIGINAL-URL:https://kickitevents.com
X-WR-CALDESC:Events for Kick It Event Management
REFRESH-INTERVAL;VALUE=DURATION:PT1H
X-Robots-Tag:noindex
X-PUBLISHED-TTL:PT1H
BEGIN:VTIMEZONE
TZID:America/New_York
BEGIN:DAYLIGHT
TZOFFSETFROM:-0500
TZOFFSETTO:-0400
TZNAME:EDT
DTSTART:20250309T070000
END:DAYLIGHT
BEGIN:STANDARD
TZOFFSETFROM:-0400
TZOFFSETTO:-0500
TZNAME:EST
DTSTART:20251102T060000
END:STANDARD
BEGIN:DAYLIGHT
TZOFFSETFROM:-0500
TZOFFSETTO:-0400
TZNAME:EDT
DTSTART:20260308T070000
END:DAYLIGHT
BEGIN:STANDARD
TZOFFSETFROM:-0400
TZOFFSETTO:-0500
TZNAME:EST
DTSTART:20261101T060000
END:STANDARD
BEGIN:DAYLIGHT
TZOFFSETFROM:-0500
TZOFFSETTO:-0400
TZNAME:EDT
DTSTART:20270314T070000
END:DAYLIGHT
BEGIN:STANDARD
TZOFFSETFROM:-0400
TZOFFSETTO:-0500
TZNAME:EST
DTSTART:20271107T060000
END:STANDARD
END:VTIMEZONE
BEGIN:VEVENT
DTSTART;TZID=America/New_York:20261108T080000
DTEND;TZID=America/New_York:20261108T120000
DTSTAMP:20260422T052839
CREATED:20260225T212225Z
LAST-MODIFIED:20260225T212225Z
UID:10000065-1794124800-1794139200@kickitevents.com
SUMMARY:2026 Veterans Day 5K
DESCRIPTION:2026 VETERANS DAY 5K\nFUNDRAISER FOR THE VETERANS HEALING FARM!\nSunday\, November 8th\, 2026\n\n\nThe 5k starts at 10AM and the Fun Run Loop starts at 9:45AM.  The 5K course follows the family-friendly greenway at Mills River Park\, that welcomes runners and walkers of all ages and abilities. This is a flat course with surrounding mountain views. \nThis race is a fundraiser for the Veterans Healing Farm\, a local nonprofit dedicated to supporting veterans through agriculture\, community\, and hands-on healing experiences. Your participation helps provide a safe space where veterans can reconnect\, rebuild\, and thrive. \n\n\nRegistration Opens April 7th! Volunteer Sign Up\n \n 
URL:https://kickitevents.com/event/2026-veterans-day-5k/
LOCATION:Mills River Park\, 124 Town Center DR\, Mills RIver\, 28759\, United States
CATEGORIES:5K,Fun Run
ATTACH;FMTTYPE=image/jpeg:https://assets.kickitevents.com/wp-content/uploads/2026/02/25162009/Vet-day-845x321-1.jpg
ORGANIZER;CN="Kick It Event Management":MAILTO:info@kickitevents.com
END:VEVENT
END:VCALENDAR